BEGIN:VCALENDAR
VERSION:2.0
PRODID:-//Surrey and Sussex BMW Owners Club (Staging) - ECPv6.15.17//NONSGML v1.0//EN
CALSCALE:GREGORIAN
METHOD:PUBLISH
X-WR-CALNAME:Surrey and Sussex BMW Owners Club (Staging)
X-ORIGINAL-URL:https://staging.surreysussexbmwoc.co.uk
X-WR-CALDESC:Events for Surrey and Sussex BMW Owners Club (Staging)
REFRESH-INTERVAL;VALUE=DURATION:PT1H
X-Robots-Tag:noindex
X-PUBLISHED-TTL:PT1H
BEGIN:VTIMEZONE
TZID:Europe/London
BEGIN:DAYLIGHT
TZOFFSETFROM:+0000
TZOFFSETTO:+0100
TZNAME:BST
DTSTART:20240331T010000
END:DAYLIGHT
BEGIN:STANDARD
TZOFFSETFROM:+0100
TZOFFSETTO:+0000
TZNAME:GMT
DTSTART:20241027T010000
END:STANDARD
BEGIN:DAYLIGHT
TZOFFSETFROM:+0000
TZOFFSETTO:+0100
TZNAME:BST
DTSTART:20250330T010000
END:DAYLIGHT
BEGIN:STANDARD
TZOFFSETFROM:+0100
TZOFFSETTO:+0000
TZNAME:GMT
DTSTART:20251026T010000
END:STANDARD
BEGIN:DAYLIGHT
TZOFFSETFROM:+0000
TZOFFSETTO:+0100
TZNAME:BST
DTSTART:20260329T010000
END:DAYLIGHT
BEGIN:STANDARD
TZOFFSETFROM:+0100
TZOFFSETTO:+0000
TZNAME:GMT
DTSTART:20261025T010000
END:STANDARD
END:VTIMEZONE
BEGIN:VEVENT
DTSTART;VALUE=DATE:20251005
DTEND;VALUE=DATE:20251006
DTSTAMP:20260419T210401
CREATED:20250811T084913Z
LAST-MODIFIED:20250811T084913Z
UID:528-1759622400-1759708799@staging.surreysussexbmwoc.co.uk
SUMMARY:My new event
DESCRIPTION:My event description .... \njhasdkjfhsdf aksldjfhaskldjjfha ksjadhalksdj klasjdf aslkdjh
URL:https://staging.surreysussexbmwoc.co.uk/event/my-new-event/
LOCATION:New Venue\, Address Line 1\, Address City\, Surrey AB1 2DC\, United Kingdom
CATEGORIES:Attending
END:VEVENT
BEGIN:VEVENT
DTSTART;TZID=Europe/London:20250928T100000
DTEND;TZID=Europe/London:20250928T170000
DTSTAMP:20260419T210401
CREATED:20250620T155605Z
LAST-MODIFIED:20250712T162616Z
UID:262-1759053600-1759078800@staging.surreysussexbmwoc.co.uk
SUMMARY:Brooklands German Car Day
DESCRIPTION:
URL:https://staging.surreysussexbmwoc.co.uk/event/brooklands-german-car-day/
LOCATION:Brooklands Museum\, Brooklands Road\, Weybridge\, Surrey\, KT13 0QN
CATEGORIES:Attending
END:VEVENT
BEGIN:VEVENT
DTSTART;VALUE=DATE:20250907
DTEND;VALUE=DATE:20250908
DTSTAMP:20260419T210401
CREATED:20250620T155306Z
LAST-MODIFIED:20250624T143528Z
UID:258-1757203200-1757289599@staging.surreysussexbmwoc.co.uk
SUMMARY:Shere Hill Climb
DESCRIPTION:
URL:https://staging.surreysussexbmwoc.co.uk/event/shere-hill-climb/
LOCATION:Staple Lane\, Staple Lane (junction with A246)\, Guildford\, Surrey\, GU4 7RL
CATEGORIES:Attending
END:VEVENT
BEGIN:VEVENT
DTSTART;VALUE=DATE:20250727
DTEND;VALUE=DATE:20250728
DTSTAMP:20260419T210401
CREATED:20250620T154741Z
LAST-MODIFIED:20250620T154741Z
UID:252-1753574400-1753660799@staging.surreysussexbmwoc.co.uk
SUMMARY:Bromley Pageant of Motoring
DESCRIPTION:
URL:https://staging.surreysussexbmwoc.co.uk/event/bromley-pageant-of-motoring/
LOCATION:South of England Showground\, Selsfield Road\, Haywards Heath\, West Sussex\, RH17 6TL
CATEGORIES:Attending
END:VEVENT
END:VCALENDAR