BEGIN:VCALENDAR
VERSION:2.0
PRODID:-//Surrey and Sussex BMW Owners Club (Staging) - ECPv6.15.17//NONSGML v1.0//EN
CALSCALE:GREGORIAN
METHOD:PUBLISH
X-WR-CALNAME:Surrey and Sussex BMW Owners Club (Staging)
X-ORIGINAL-URL:https://staging.surreysussexbmwoc.co.uk
X-WR-CALDESC:Events for Surrey and Sussex BMW Owners Club (Staging)
REFRESH-INTERVAL;VALUE=DURATION:PT1H
X-Robots-Tag:noindex
X-PUBLISHED-TTL:PT1H
BEGIN:VTIMEZONE
TZID:Europe/London
BEGIN:DAYLIGHT
TZOFFSETFROM:+0000
TZOFFSETTO:+0100
TZNAME:BST
DTSTART:20240331T010000
END:DAYLIGHT
BEGIN:STANDARD
TZOFFSETFROM:+0100
TZOFFSETTO:+0000
TZNAME:GMT
DTSTART:20241027T010000
END:STANDARD
BEGIN:DAYLIGHT
TZOFFSETFROM:+0000
TZOFFSETTO:+0100
TZNAME:BST
DTSTART:20250330T010000
END:DAYLIGHT
BEGIN:STANDARD
TZOFFSETFROM:+0100
TZOFFSETTO:+0000
TZNAME:GMT
DTSTART:20251026T010000
END:STANDARD
BEGIN:DAYLIGHT
TZOFFSETFROM:+0000
TZOFFSETTO:+0100
TZNAME:BST
DTSTART:20260329T010000
END:DAYLIGHT
BEGIN:STANDARD
TZOFFSETFROM:+0100
TZOFFSETTO:+0000
TZNAME:GMT
DTSTART:20261025T010000
END:STANDARD
END:VTIMEZONE
BEGIN:VEVENT
DTSTART;TZID=Europe/London:20250831T100000
DTEND;TZID=Europe/London:20250831T160000
DTSTAMP:20260419T224244
CREATED:20250620T154853Z
LAST-MODIFIED:20250721T124203Z
UID:256-1756634400-1756656000@staging.surreysussexbmwoc.co.uk
SUMMARY:M-Powered BMW and Alpina @ Denbies
DESCRIPTION:The display cars are all BMW M cars\, M- Lite and Alpina models of any age. i- electric welcome too. 2025 marks a special year as it's 60 years of Alpina and 50 years of the 3 series. \nWe encourage all BMW owners and enthusiasts to attend\, even if not part of the main display. \nOur friends at BMR Performance are once again sponsoring M-Powered BMW and Alpina\, which is set in the beautiful Surrey Hills\, providing a spectacular backdrop to the display. \nDisplay cars from 09:30\, please.
URL:https://staging.surreysussexbmwoc.co.uk/event/m-power-and-alpina-day/
LOCATION:Denbies Wine Estate\, Bradley Lane\, Dorking\, Surrey\, RH5 6AA
CATEGORIES:Hosted by us
END:VEVENT
BEGIN:VEVENT
DTSTART;TZID=Europe/London:20250720T110000
DTEND;TZID=Europe/London:20250720T140000
DTSTAMP:20260419T224244
CREATED:20250620T154403Z
LAST-MODIFIED:20250620T154403Z
UID:249-1753009200-1753020000@staging.surreysussexbmwoc.co.uk
SUMMARY:Monthly Club Meet
DESCRIPTION:
URL:https://staging.surreysussexbmwoc.co.uk/event/monthly-club-meet-2/
LOCATION:Fairmile Inn\, Portsmouth Road\, Fairmile\, Surrey\, KT11 1BW
CATEGORIES:Hosted by us
END:VEVENT
BEGIN:VEVENT
DTSTART;TZID=Europe/London:20250629T100000
DTEND;TZID=Europe/London:20250629T160000
DTSTAMP:20260419T224244
CREATED:20250620T154158Z
LAST-MODIFIED:20250620T154158Z
UID:246-1751191200-1751212800@staging.surreysussexbmwoc.co.uk
SUMMARY:Deutschemarques 2025
DESCRIPTION:
URL:https://staging.surreysussexbmwoc.co.uk/event/deutschemarques-2025/
LOCATION:Denbies Wine Estate\, Bradley Lane\, Dorking\, Surrey\, RH5 6AA
CATEGORIES:Hosted by us
END:VEVENT
BEGIN:VEVENT
DTSTART;TZID=Europe/London:20250622T090000
DTEND;TZID=Europe/London:20250622T120000
DTSTAMP:20260419T224244
CREATED:20250620T153814Z
LAST-MODIFIED:20250620T153814Z
UID:244-1750582800-1750593600@staging.surreysussexbmwoc.co.uk
SUMMARY:Monthly Club Meet
DESCRIPTION:
URL:https://staging.surreysussexbmwoc.co.uk/event/monthly-club-meet/
LOCATION:Tulley's Farm\, Turners Hill\, Crawley\, West Sussex\, RH10 4PE
CATEGORIES:Hosted by us
END:VEVENT
END:VCALENDAR